BEGIN:VCALENDAR
VERSION:2.0
PRODID:-//East Asian Legal Studies - ECPv6.15.20//NONSGML v1.0//EN
CALSCALE:GREGORIAN
METHOD:PUBLISH
X-ORIGINAL-URL:https://eals.law.harvard.edu
X-WR-CALDESC:Events for East Asian Legal Studies
REFRESH-INTERVAL;VALUE=DURATION:PT1H
X-Robots-Tag:noindex
X-PUBLISHED-TTL:PT1H
BEGIN:VTIMEZONE
TZID:America/New_York
BEGIN:DAYLIGHT
TZOFFSETFROM:-0500
TZOFFSETTO:-0400
TZNAME:EDT
DTSTART:20250309T070000
END:DAYLIGHT
BEGIN:STANDARD
TZOFFSETFROM:-0400
TZOFFSETTO:-0500
TZNAME:EST
DTSTART:20251102T060000
END:STANDARD
BEGIN:DAYLIGHT
TZOFFSETFROM:-0500
TZOFFSETTO:-0400
TZNAME:EDT
DTSTART:20260308T070000
END:DAYLIGHT
BEGIN:STANDARD
TZOFFSETFROM:-0400
TZOFFSETTO:-0500
TZNAME:EST
DTSTART:20261101T060000
END:STANDARD
BEGIN:DAYLIGHT
TZOFFSETFROM:-0500
TZOFFSETTO:-0400
TZNAME:EDT
DTSTART:20270314T070000
END:DAYLIGHT
BEGIN:STANDARD
TZOFFSETFROM:-0400
TZOFFSETTO:-0500
TZNAME:EST
DTSTART:20271107T060000
END:STANDARD
END:VTIMEZONE
BEGIN:VEVENT
DTSTART;TZID=America/New_York:20260311T160000
DTEND;TZID=America/New_York:20260311T171500
DTSTAMP:20260421T123914
CREATED:20260305T161309Z
LAST-MODIFIED:20260305T161601Z
UID:10000223-1773244800-1773249300@eals.law.harvard.edu
SUMMARY:From Copycat to Technology Innovator: China’s Use of IP as Strategic Governance -- Haochen Sun
DESCRIPTION:East Asian Legal Studies Talk\nCo-sponsored with the Fairbank Center for Chinese Studies and the Berkman Klein Center for Internet & Society \nHaochen Sun LLM ’06\nProfessor of Law\, The University of Hong Kong\nFounding Director\, HKU Program on AI and the Law \nWhat role have state-orchestrated intellectual property policies played in China’s emergence as a major technology innovator? This talk discusses two interrelated transformations that have taken place in China over the past two decades: the rise and fall of the shanzai (copycat) culture movement and China’s ascent as a tech superpower since 2015. In analyzing these transformations\, the talk explains how China has deployed IP as a tool of strategic governance and statecraft. \nProfessor Haochen Sun specializes in intellectual property\, technology law\, and Chinese law. His wide-ranging scholarship has delved into areas such as the legal status of artificial intelligence creations\, access to patented medicines and vaccines\, intellectual property rights owners’ responsibilities\, and the trademark protection of luxury brands. He is currently working on two new research projects. The first one aims to develop a new ethical framework for regulating AI creativity\, while the second one critically examines the epic transformations that have taken place in China’s regulation of technologies. He recently founded the Program on Artificial Intelligence and the Law\, a research hub for studying the impact of AI on the legal system. \nCoffee and light snacks will be provided. Please register here. \nA Harvard ID is required in order to enter Harvard Law School buildings. If you have questions\, please contact eals@law.harvard.edu in advance of the event.
URL:https://eals.law.harvard.edu/event/haochen-sun-2026/
LOCATION:WCC 2004
CATEGORIES:EALS Event,Talk/Panel
ATTACH;FMTTYPE=image/png:https://eals.law.harvard.edu/wp-content/uploads/2026/03/2026.03-Haochen-Sun-Talk-1.png
END:VEVENT
END:VCALENDAR