BEGIN:VCALENDAR
VERSION:2.0
PRODID:-//East Asian Legal Studies - ECPv6.15.20//NONSGML v1.0//EN
CALSCALE:GREGORIAN
METHOD:PUBLISH
X-ORIGINAL-URL:https://eals.law.harvard.edu
X-WR-CALDESC:Events for East Asian Legal Studies
REFRESH-INTERVAL;VALUE=DURATION:PT1H
X-Robots-Tag:noindex
X-PUBLISHED-TTL:PT1H
BEGIN:VTIMEZONE
TZID:America/New_York
BEGIN:DAYLIGHT
TZOFFSETFROM:-0500
TZOFFSETTO:-0400
TZNAME:EDT
DTSTART:20230312T070000
END:DAYLIGHT
BEGIN:STANDARD
TZOFFSETFROM:-0400
TZOFFSETTO:-0500
TZNAME:EST
DTSTART:20231105T060000
END:STANDARD
BEGIN:DAYLIGHT
TZOFFSETFROM:-0500
TZOFFSETTO:-0400
TZNAME:EDT
DTSTART:20240310T070000
END:DAYLIGHT
BEGIN:STANDARD
TZOFFSETFROM:-0400
TZOFFSETTO:-0500
TZNAME:EST
DTSTART:20241103T060000
END:STANDARD
BEGIN:DAYLIGHT
TZOFFSETFROM:-0500
TZOFFSETTO:-0400
TZNAME:EDT
DTSTART:20250309T070000
END:DAYLIGHT
BEGIN:STANDARD
TZOFFSETFROM:-0400
TZOFFSETTO:-0500
TZNAME:EST
DTSTART:20251102T060000
END:STANDARD
END:VTIMEZONE
BEGIN:VEVENT
DTSTART;TZID=America/New_York:20241113T121500
DTEND;TZID=America/New_York:20241113T131500
DTSTAMP:20260422T134541
CREATED:20241121T000357Z
LAST-MODIFIED:20250125T074023Z
UID:10000183-1731500100-1731503700@eals.law.harvard.edu
SUMMARY:Justice in Early Modern Korea
DESCRIPTION:The Korean Association of Harvard Law School (student organization) presents: \nSun Joo Kim\nProfessor\, Department of East Asian Languages and Civilizations\, Harvard University \n \nThe talk will discuss legal principles mobilized in 17th century Korea to rationalize various judicial viewpoints\, reconcile competing legal precedents\, and address extralegal punishments. \nSun Joo Kim is Harvard-Yenching Professor of Korean History in the Department of East Asian Languages and Civilizations at Harvard University. After completing an undergraduate degree in history at Yonsei University\, she received a master’s degree and Ph.D. from the University of Washington. She has a broad range of research interests in social and cultural history of Chosŏn Korea (1392–1910) including regional history of the northern part of Korea\, popular movements\, historical memory\, micro history\, everyday lives of people\, history of emotions\, law and society\, slavery\, and art history. She is also devoted to making underused yet enlightening primary sources available in English through conventional as well as digital publishing. She is author of several books and numerous articles. She is a recipient of various fellowships and grants\, most notably American Council of Learned Societies Collaborative Research Fellowship\, Korea Foundation Advanced Research Grant\, and Social Science Research Council Doctoral Research Fellowship. \nLunch will be provided. \nSponsored by the Korean Association of Harvard Law School. Co-sponsored by East Asian Legal Studies.
URL:https://eals.law.harvard.edu/event/sun-joo-kim-2024/
LOCATION:WCC 3012
CATEGORIES:Co-Sponsored Event,Talk/Panel
ATTACH;FMTTYPE=image/jpeg:https://eals.law.harvard.edu/wp-content/uploads/2024/11/KAHLS-Prof.-Kim-Lunch-Talk-v3.jpg
END:VEVENT
END:VCALENDAR