BEGIN:VCALENDAR
VERSION:2.0
PRODID:-//East Asian Legal Studies - ECPv6.15.20//NONSGML v1.0//EN
CALSCALE:GREGORIAN
METHOD:PUBLISH
X-ORIGINAL-URL:https://eals.law.harvard.edu
X-WR-CALDESC:Events for East Asian Legal Studies
REFRESH-INTERVAL;VALUE=DURATION:PT1H
X-Robots-Tag:noindex
X-PUBLISHED-TTL:PT1H
BEGIN:VTIMEZONE
TZID:America/New_York
BEGIN:DAYLIGHT
TZOFFSETFROM:-0500
TZOFFSETTO:-0400
TZNAME:EDT
DTSTART:20220313T070000
END:DAYLIGHT
BEGIN:STANDARD
TZOFFSETFROM:-0400
TZOFFSETTO:-0500
TZNAME:EST
DTSTART:20221106T060000
END:STANDARD
BEGIN:DAYLIGHT
TZOFFSETFROM:-0500
TZOFFSETTO:-0400
TZNAME:EDT
DTSTART:20230312T070000
END:DAYLIGHT
BEGIN:STANDARD
TZOFFSETFROM:-0400
TZOFFSETTO:-0500
TZNAME:EST
DTSTART:20231105T060000
END:STANDARD
BEGIN:DAYLIGHT
TZOFFSETFROM:-0500
TZOFFSETTO:-0400
TZNAME:EDT
DTSTART:20240310T070000
END:DAYLIGHT
BEGIN:STANDARD
TZOFFSETFROM:-0400
TZOFFSETTO:-0500
TZNAME:EST
DTSTART:20241103T060000
END:STANDARD
BEGIN:DAYLIGHT
TZOFFSETFROM:-0500
TZOFFSETTO:-0400
TZNAME:EDT
DTSTART:20250309T070000
END:DAYLIGHT
BEGIN:STANDARD
TZOFFSETFROM:-0400
TZOFFSETTO:-0500
TZNAME:EST
DTSTART:20251102T060000
END:STANDARD
BEGIN:DAYLIGHT
TZOFFSETFROM:-0500
TZOFFSETTO:-0400
TZNAME:EDT
DTSTART:20260308T070000
END:DAYLIGHT
BEGIN:STANDARD
TZOFFSETFROM:-0400
TZOFFSETTO:-0500
TZNAME:EST
DTSTART:20261101T060000
END:STANDARD
BEGIN:DAYLIGHT
TZOFFSETFROM:-0500
TZOFFSETTO:-0400
TZNAME:EDT
DTSTART:20270314T070000
END:DAYLIGHT
BEGIN:STANDARD
TZOFFSETFROM:-0400
TZOFFSETTO:-0500
TZNAME:EST
DTSTART:20271107T060000
END:STANDARD
END:VTIMEZONE
BEGIN:VEVENT
DTSTART;TZID=America/New_York:20260309T163000
DTEND;TZID=America/New_York:20260309T183000
DTSTAMP:20260422T133124
CREATED:20260304T151959Z
LAST-MODIFIED:20260304T151959Z
UID:10000228-1773073800-1773081000@eals.law.harvard.edu
SUMMARY:Gender\, Class\, and Youth: The Formation of Civic Democracy in Asia in the Post-Developmental State Era
DESCRIPTION:Harvard-Yenching Institute Annual Roundtable: \nCo-sponsored with the Asia Center\, the Korea Institute\, the Reischauer Institute of Japanese Studies\, and the Fairbank Center for Chinese Studies \nPanelists: \n\nNetiwit Chotiphatphaisal\, Harvard Divinity School Fellow\, Publisher\, and Democracy Activist\nMing-sho Ho\, Professor\, Department of Sociology\, National Taiwan University\nEleana Kim\, Professor\, Anthropology and Asian American Studies\, University of California\, Irvine\nHyun Mee Kim\, Professor\, Department of Cultural Anthropology\, Yonsei University\nAnthony J. Spires\, Professor\, Centre for Contemporary Chinese Studies\, The University of Melbourne\nKiyoteru Tsutsui\, Director\, Shorenstein Asia-Pacific Research Center\, Professor of Sociology\, Henri H. and Tomoye Takahashi Professor of Japanese Studies\, Stanford University\n\nModerator: James Robson (James C. Kralik and Yunli Lou Professor of East Asian Languages and Civilizations; Harvard College Professor; Director\, Harvard-Yenching Institute) \nEvent details can be found on the Harvard-Yenching Institute website.
URL:https://eals.law.harvard.edu/event/hyi-roundtable-2026/
LOCATION:CGIS South\, Tsai Auditorium (S010)
CATEGORIES:Event of Interest,Talk/Panel
END:VEVENT
BEGIN:VEVENT
DTSTART;VALUE=DATE:20251113
DTEND;VALUE=DATE:20251115
DTSTAMP:20260422T133124
CREATED:20251009T193515Z
LAST-MODIFIED:20251118T180936Z
UID:10000211-1762992000-1763164799@eals.law.harvard.edu
SUMMARY:Asia and Asians at Harvard Conference
DESCRIPTION:Asia and Asians at Harvard Conference\n\n  \nHarvard’s enduring engagement with Asia has shaped scholarly inquiry\, public policy\, and campus life—within the University and across the region. This two-day conference convenes faculty\, students\, alumni\, and institutional partners from across Schools and disciplines to examine the evolving relationship between Harvard and Asia from the late nineteenth century to the present and to consider paths forward. \nThrough a series of presentations\, the program revisits formative encounters\, collaborations\, and institutional linkages; recognizes the contributions of Asian students\, scholars\, and visitors who have transformed fields and enriched the University; and offers an assessment of Harvard’s roles in U.S. policy\, development\, and institution-building in Asia\, acknowledging both contributions and consequences. \nLooking ahead\, the conference asks how Harvard can advance more inclusive\, equitable\, and regionally balanced approaches to the study of Asia and to University engagement with the region—strengthening partnerships\, deepening interdisciplinary research and teaching\, and enhancing public impact. \nRegistration is not required but appreciated for planning purposes. \n  \nTwo-Day Conference\nDay 1: Thursday\, November 13\, 2025\nCGIS South\, 1730 Cambridge Street\n4:00 p.m. – 5:30 p.m.\nOpening and Introductions\nMichael Puett\, Victor and William Fung Foundation Director\, Harvard University Asia Center; Walter C. Klein Professor of Chinese History and Anthropology; Harvard College Professor\nSugata Bose\, Gardiner Professor of Oceanic History and Affairs\, Harvard University \nReception\nConcourse Area\, CGIS South\, 1730 Cambridge Street \nDay 2: Friday\, November 14\, 2025\nCGIS South\, 1730 Cambridge Street\n8:15 a.m. – 9:00 a.m. Breakfast \n9:00 a.m. – 10:30 a.m.\nDistinguished Visitors: Asian Intellectuals and Public Figures at Harvard  \nModerator: Shigehisa Kuriyama\, Reischauer Institute Professor of Cultural History; Director\, Reischauer Institute of Japanese Studies; Interim Chair in the Department of East Asian Languages and Civilizations; and Faculty Director for the Humanities\, Radcliffe Institute for Advanced Study\nPanelists: \nSusan J. Pharr\, Edwin O. Reischauer Research Professor of Japanese Politics\, Harvard University \nMou Banerjee\, Assistant Professor of History\, University of Wisconsin–Madison; Ph.D. in History\, Harvard University\nYan Yu\, Associate Professor\, Shanghai Jiao Tong University\, and Visiting Scholar\, Harvard History Department\nEugene Chua\, Harvard College Student \n10:30 a.m. – 10:45 a.m. Break  \n10:45 a.m. – 12:30 p.m.\nPioneers and Pathways: Asian Student Experiences at Harvard \nModerator: Sun Joo Kim\, Harvard-Yenching Professor of Korean History\nPanelists:\nSujin Elisa Han\, Ph.D. candidate in History and East Asian Languages\, Harvard University\nMui Poopoksakul\, Literary Translator; Harvard College Graduate\nShayna Leng\, Harvard College Student \nKashish Bastola\, Harvard College Student  \n12:30 p.m. – 1:30 p.m. Lunch  \n1:30 p.m. – 3:00 p.m.\nHarvard’s Engagement in U.S. Policy towards Asia \nModerator: Sugata Bose\, Gardiner Professor of Oceanic History and Affairs\, Harvard University\nPanelists:  \nEleanor Wikstrom\, MSt in Global and Imperial History\, University  of Oxford; Harvard College Graduate \nErika Lee\, Bae Family Professor of History and the Faculty Director of the Schlesinger Library on the History of Women in America\, Harvard University\nThitinan Pongsudhirak\, Director of the Institute of Security and International Studies (ISIS) and Associate Professor of International Political Economy\, Faculty of Political Science\, Chulalongkorn University\nNghia Nguyen\, Harvard College Student \n3:00 p.m. – 3:15 p.m. Break  \n3:15 p.m. – 4:45 p.m.\nHarvard’s Asian Futures: Rethinking Institutional Legacies and Regional Engagement \nModerator: Jay Rosengard\, Lecturer in Public Policy\, Harvard Kennedy School\nPanelists: \nJoseph Esherick\, Emeritus Professor of Modern Chinese History\, University of California\, San Diego\nBill Alford\, Jerome A. and Joan L. Cohen Professor of Law; Director\, East Asian Legal Studies Program; Chair\, Harvard Law School Project on Disability\nRobin Albrecht\, MArch Candidate\, Department of Architecture\, Harvard  University Graduate School of Design\nMichael Puett\, Victor and William Fung Foundation Director\, Harvard University Asia Center; Walter C. Klein Professor of Chinese History and Anthropology; Harvard College Professor \n4:45 p.m. – 5:00 p.m.\nClosing Acknowledgement\nRachelle Walsh\, Executive Director\, Asia Center\, Harvard University  \nEvent details can be found on the Asia Center website.
URL:https://eals.law.harvard.edu/event/asia-and-asians-at-harvard-conference-2025/
LOCATION:CGIS South\, Tsai Auditorium (S010)
CATEGORIES:Conference/Symposium,Event of Interest
ATTACH;FMTTYPE=image/jpeg:https://eals.law.harvard.edu/wp-content/uploads/2025/10/ASC-1-scaled.jpg
END:VEVENT
BEGIN:VEVENT
DTSTART;TZID=America/New_York:20250305T163000
DTEND;TZID=America/New_York:20250305T174500
DTSTAMP:20260422T133124
CREATED:20250226T165240Z
LAST-MODIFIED:20250306T194811Z
UID:10000200-1741192200-1741196700@eals.law.harvard.edu
SUMMARY:Unchained Watchdog: How China’s Supervision Commission Escapes Legal Bounds
DESCRIPTION:Fairbank Center Critical Issues Confronting China Series \nJeremy Daum\nSenior Research Scholar in Law and Senior Fellow\nPaul Tsai China Center\, Yale Law School \nModerator:\nWilliam Alford\nJerome A. and Joan L. Cohen Professor of Law\nDirector\, East Asian Legal Studies Program \nJeremy Daum is a Senior Research Scholar in Law and Senior Fellow at the Paul Tsai China Center. He is based in Beijing\, and has more than a decade of experience working in China on collaborative legal reform projects. His principal research focus is criminal procedure law\, with a particular emphasis on the protection of vulnerable populations such as juveniles and the mentally ill in the criminal justice system. He is also an authority on China’s “social credit system.” Jeremy has spoken about these issues at universities throughout China and the United States and has co-authored a book on U.S. capital punishment jurisprudence for Chinese readers. He is the founder and contributing editor of the collaborative translation and commentary site Chinalawtranslate.com\, dedicated to improving mutual understanding between legal professionals in China and abroad. \nSponsored by the Fairbank Center for Chinese Studies.
URL:https://eals.law.harvard.edu/event/jeremy-daum-2025/
LOCATION:CGIS South\, Tsai Auditorium (S010)
CATEGORIES:Event of Interest,Talk/Panel
ATTACH;FMTTYPE=image/jpeg:https://eals.law.harvard.edu/wp-content/uploads/2025/02/daum-e1740591624416.jpg
END:VEVENT
BEGIN:VEVENT
DTSTART;TZID=America/New_York:20230308T161500
DTEND;TZID=America/New_York:20230308T180000
DTSTAMP:20260422T133124
CREATED:20240422T235131Z
LAST-MODIFIED:20250125T150119Z
UID:10000017-1678292100-1678298400@eals.law.harvard.edu
SUMMARY:Journey of an Exile Tibetan Leader: From Harvard to Dharamsala
DESCRIPTION:Harvard University Asia Center’s 17th Tsai Lecture \nLobsang Sangay\, Former Sikyong (President)\, Central Tibetan Administration; Senior Visiting Fellow\, East Asian Legal Studies\, Harvard Law School \nWith introductions by James Robson\, James C. Kralik and Yunli Lou Professor of East Asian Languages and Civilizations\, Department of East Asian Languages and Civilizations; Victor and William Fung Director\, Asia Center; Harvard College Professor \nIn-person public event. The talk will be followed by a reception in the concourse\, CGIS South. \nLobsang Sangay is a Senior Visiting Fellow at East Asian Legal Studies Program\, Harvard Law School. He was a democratically elected Sikyong (President) of the Central Tibetan Administration and served two terms (2011-21). Lobsang completed his BA and LLB from Delhi University. He did his LLM ’95 and SJD ‘04 from Harvard Law School and received Yong K. Kim’ 95 Memorial Prize for excellence in dissertation and contributions to the understanding of East Asia at the Harvard Law School. While at Harvard\, akin to track III\, he organized seven rounds of meetings/conferences between Tibetan\, Western and Chinese scholars most notably\, the first ever meeting between HH the Dalai Lama and 25 Chinese scholars and students. \nHe was a researcher for the report “Tibet: Human Rights and the Rule of Law”\, published by the International Commission of Jurists in Geneva\, Switzerland (2008). He also published Legal Autonomy of Tibet: A Tibetan Lawyer’s Perspective\, in the Journal of East Asia and International Law and “Education Rights for Tibetans in Tibet and India\,” in John D. Montgomery\, ed. Human Rights: Positive Policies in Asia and the Pacific Rim\, SOKA University Press. He wrote an article\, Tibet: The Exile’s Journey published in the Journal of Democracy (2004). He was selected as one of the twenty-four Young Leaders of Asia by the Asia Society (2006). He has spoken at international conferences such as Forum 2000\, Halifax Security Forum\, and Oxford Union. He has written numerous Op-eds in major newspapers including The New York Times\, The Washington Post\, The Wall Street Journal\, and appeared on many international TV networks like BBC and CNN. \nHe was awarded the Gold Medal for Outstanding Contribution to Public Discourse\, College Historical Society (CHS)\, Trinity College\, Dublin (2014) and Salisbury University Presidential Medal for Distinguished Community Leadership (2015). He has visited various capitals and parliaments around the world and played an important role in the passage of Tibetan Policy and Support Act 2020 signed by the United States Government. \nHe was most recently a lecturer at the Harvard Law School in the Fall of 2022\, teaching a reading group on China and Tibet and presently teaching a reading group on Tibet at the Harvard Kennedy School. \nEvent details on Asia Center website \nSponsored by Harvard University Asia Center. Co-sponsored by Lakshmi Mittal and Family South Asia Institute\, Harvard University; Fairbank Center for Chinese Studies\, Harvard University.
URL:https://eals.law.harvard.edu/event/lobsang-sangay-2023/
LOCATION:CGIS South\, Tsai Auditorium (S010)
CATEGORIES:Event of Interest,Talk/Panel
ATTACH;FMTTYPE=image/jpeg:https://eals.law.harvard.edu/wp-content/uploads/2024/04/New-Tsai-lecture-600x928_600_928_70.jpeg
END:VEVENT
END:VCALENDAR