BEGIN:VCALENDAR
VERSION:2.0
PRODID:-//East Asian Legal Studies - ECPv6.15.20//NONSGML v1.0//EN
CALSCALE:GREGORIAN
METHOD:PUBLISH
X-WR-CALNAME:East Asian Legal Studies
X-ORIGINAL-URL:https://eals.law.harvard.edu
X-WR-CALDESC:Events for East Asian Legal Studies
REFRESH-INTERVAL;VALUE=DURATION:PT1H
X-Robots-Tag:noindex
X-PUBLISHED-TTL:PT1H
BEGIN:VTIMEZONE
TZID:America/New_York
BEGIN:DAYLIGHT
TZOFFSETFROM:-0500
TZOFFSETTO:-0400
TZNAME:EDT
DTSTART:20190310T070000
END:DAYLIGHT
BEGIN:STANDARD
TZOFFSETFROM:-0400
TZOFFSETTO:-0500
TZNAME:EST
DTSTART:20191103T060000
END:STANDARD
BEGIN:DAYLIGHT
TZOFFSETFROM:-0500
TZOFFSETTO:-0400
TZNAME:EDT
DTSTART:20200308T070000
END:DAYLIGHT
BEGIN:STANDARD
TZOFFSETFROM:-0400
TZOFFSETTO:-0500
TZNAME:EST
DTSTART:20201101T060000
END:STANDARD
BEGIN:DAYLIGHT
TZOFFSETFROM:-0500
TZOFFSETTO:-0400
TZNAME:EDT
DTSTART:20210314T070000
END:DAYLIGHT
BEGIN:STANDARD
TZOFFSETFROM:-0400
TZOFFSETTO:-0500
TZNAME:EST
DTSTART:20211107T060000
END:STANDARD
BEGIN:DAYLIGHT
TZOFFSETFROM:-0500
TZOFFSETTO:-0400
TZNAME:EDT
DTSTART:20220313T070000
END:DAYLIGHT
BEGIN:STANDARD
TZOFFSETFROM:-0400
TZOFFSETTO:-0500
TZNAME:EST
DTSTART:20221106T060000
END:STANDARD
BEGIN:DAYLIGHT
TZOFFSETFROM:-0500
TZOFFSETTO:-0400
TZNAME:EDT
DTSTART:20230312T070000
END:DAYLIGHT
BEGIN:STANDARD
TZOFFSETFROM:-0400
TZOFFSETTO:-0500
TZNAME:EST
DTSTART:20231105T060000
END:STANDARD
BEGIN:DAYLIGHT
TZOFFSETFROM:-0500
TZOFFSETTO:-0400
TZNAME:EDT
DTSTART:20240310T070000
END:DAYLIGHT
BEGIN:STANDARD
TZOFFSETFROM:-0400
TZOFFSETTO:-0500
TZNAME:EST
DTSTART:20241103T060000
END:STANDARD
BEGIN:DAYLIGHT
TZOFFSETFROM:-0500
TZOFFSETTO:-0400
TZNAME:EDT
DTSTART:20250309T070000
END:DAYLIGHT
BEGIN:STANDARD
TZOFFSETFROM:-0400
TZOFFSETTO:-0500
TZNAME:EST
DTSTART:20251102T060000
END:STANDARD
BEGIN:DAYLIGHT
TZOFFSETFROM:-0500
TZOFFSETTO:-0400
TZNAME:EDT
DTSTART:20260308T070000
END:DAYLIGHT
BEGIN:STANDARD
TZOFFSETFROM:-0400
TZOFFSETTO:-0500
TZNAME:EST
DTSTART:20261101T060000
END:STANDARD
BEGIN:DAYLIGHT
TZOFFSETFROM:-0500
TZOFFSETTO:-0400
TZNAME:EDT
DTSTART:20270314T070000
END:DAYLIGHT
BEGIN:STANDARD
TZOFFSETFROM:-0400
TZOFFSETTO:-0500
TZNAME:EST
DTSTART:20271107T060000
END:STANDARD
END:VTIMEZONE
BEGIN:VEVENT
DTSTART;TZID=America/New_York:20260416T170000
DTEND;TZID=America/New_York:20260416T180000
DTSTAMP:20260424T153757
CREATED:20260409T185708Z
LAST-MODIFIED:20260413T130248Z
UID:10000230-1776358800-1776362400@eals.law.harvard.edu
SUMMARY:CLA Academics Speaker Series: Professor Mark Jia
DESCRIPTION:China Law Association (student organization) event: \nCLA Academics Speaker Series: Professor Mark Jia\nTime: Thursday\, April 16\, 5-6 PM\nLocation: Zoom \nHarvard Law School China Law Association (CLA) is excited to host Professor Mark Jia (J.D. ’16) of Georgetown University Law Center\, for a discussion of his upcoming paper\, “Law Power.” \n\nInternational relations scholars have long debated the military\, economic\, and cultural dimensions of national power. Yet in new age of great power competition\, we lack a general theory of national legal power comparable to these more familiar forms of national power. Drawing on legal scholarship across many specific settings\, this Article introduces a general concept of law power—a nation-state’s ability to use law to affect others to get what it wants. Law power can be soft\, hard\, or sharp\, and can involve local\, foreign\, or international law. In today’s juridified geopolitics\, law power is a leading form of national power. \nProfessor Jia is a scholar of comparative and transnational law\, with particular focus on the United States and China. His research broadly seeks to understand the relationship between law and authoritarianism and between law and geopolitics. His work has won the 2022 Mark Tushnet Prize from the Association of American Law School’s Section on Comparative Law\, the 2024 Scholarship Prize from the American Society of International Law’s International Law and Technology Interest Group\, and the 2025 Privacy Papers for Policymakers Award from the Future of Privacy Forum. \nIf you are interested in attending the event\, please RSVP. The Zoom link and draft paper will be circulated to those who RSVP by Tuesday April 14. \nFor any questions\, please feel free to reach out to Shengdong Guo (sguo@sjd.law.harvard.edu)\, or Zeqing Li (zli@jd27.law.harvard.edu).
URL:https://eals.law.harvard.edu/event/mark-jia-2026/
LOCATION:Online (Zoom)
CATEGORIES:Event of Interest,Talk/Panel
ATTACH;FMTTYPE=image/png:https://eals.law.harvard.edu/wp-content/uploads/2026/04/f0a13fe4-efe3-8cbd-4f31-7da45a697963.png
END:VEVENT
BEGIN:VEVENT
DTSTART;TZID=America/New_York:20251113T163000
DTEND;TZID=America/New_York:20251113T173000
DTSTAMP:20260424T153757
CREATED:20251023T143505Z
LAST-MODIFIED:20251112T152208Z
UID:10000214-1763051400-1763055000@eals.law.harvard.edu
SUMMARY:Korea's Place in an Uncertain World: Challenges and Opportunities -- Ambassador Kyung-wha Kang
DESCRIPTION:Korea Institute Kim Koo Forum 20th Anniversary Event \n\n\n\n[Please note: This event has been changed from in-person to virtual only.] \nHer Excellency Kang\, Kyung-wha\nAmbassador Extraordinary and Plenipotentiary of the Republic of Korea to the United States of America \nHer Excellency Kang\, Kyung-wha was appointed Ambassador Extraordinary and Plenipotentiary of the Republic of Korea to the United States of America by President Lee\, Jae Myung in October\, 2025. \nPrior to her appointment\, Ambassador Kang served as Minister of Foreign Affairs from 2017-2021 under President Moon\, Jae-in. Between April\, 2024 and September\, 2025 she served as President and Chief Executive Officer of Asia Society in New York. \nDuring her varied and distinguished career in public service\, Ambassador Kang served as Secretary for International Relations in the Office of the Speaker of the Korean National Assembly and as Senior Advisor and Principal Speechwriter to the Foreign Minister and Principal Interpreter to the President of Korea. \nShe was also Director-General for International Organizations at the Ministry of Foreign Affairs and Trade of the Republic of Korea. At the United Nations\, she was Deputy High Commissioner at the Office of the High Commissioner for Human Rights\, Deputy Emergency Relief Coordinator and Assistant Secretary-General at the United Nations Office for the Coordination of Humanitarian Affairs\, Chief of the Transition Team for the 9th United Nations Secretary-General-elect and later his Senior Advisor\non Policy. \nEarlier in her career\, Ambassador Kang worked for the English Section of Radio Korea International of the Korean Broadcasting System (KBS)\, served as Assistant Professor at Cleveland State University in Cleveland\, Ohio and was active in several women’s\norganizations in Korea. She was affiliated with Ewha Women’s University as Distinguished Professor Emeritus (Sept. 2022 – Feb. 2023) and is Honorary Professor at the Institute for Global Engagement and Empowerment at Yonsei University since September\, 2023. \nAmbassador Kang has a Bachelor’s Degree in Political Science and International Studies from Yonsei University\, and both a Master’s Degree and Doctorate in International/Intercultural Communication from the University of Massachusetts at\nAmherst. \nShe is married with three children. \nChaired by Nicholas Harkness\, Modern Korean Economy and Society Professor of Anthropology; Director\, Korea Institute\, Harvard University \n***\nTo attend this online event\, please register here. \nEvent details can be found on the Korea Institute website.
URL:https://eals.law.harvard.edu/event/kyungwha-kang-2025/
LOCATION:Online (Zoom)
CATEGORIES:Event of Interest,Talk/Panel
ATTACH;FMTTYPE=image/jpeg:https://eals.law.harvard.edu/wp-content/uploads/2025/10/Poster-Kim-Koo-Forum-1-scaled.jpg
END:VEVENT
BEGIN:VEVENT
DTSTART;TZID=America/New_York:20240507T083000
DTEND;TZID=America/New_York:20240507T100000
DTSTAMP:20260424T153757
CREATED:20240429T174515Z
LAST-MODIFIED:20250125T072440Z
UID:10000103-1715070600-1715076000@eals.law.harvard.edu
SUMMARY:Rightscaling Cities: The Political Economy of City Territory in China
DESCRIPTION:Fairbank Center Urban China Lecture Series \nZhang Guanchi (S.J.D. 2023)\nAssistant Professor of Law\, Vermont Law and Graduate School \n \nHow has the rescaling of the city territories interacted with China’s political and economic transformation? During the country’s rapid industrialization and urbanization\, Chinese cities have exhibited a relatively low degree of territorial fragmentation. This study examines the institutional experiments that have reclassified\, redivided\, and recombined local government territory in the People’s Republic of China since 1949. I argue that the constant rescaling of cities is a distinctive and underestimated mechanism in the Chinese state’s steering of economic transformation. \nThrough extensive fieldwork and archival research\, I find that the question of city scale has been integral to China’s economic modernization for the last seven decades. The constant tensions between the metropolitan center and periphery have driven various territorial reforms\, both before and after the market-oriented reform. These reforms have profoundly shaped the state’s economic development projects. I argue that\, over time\, metropolitan governments emerge as the primary scale for inter-local competition and coordination. While this particular territorial choice has contributed to China’s economic rise\, its entrenchment has ramifications for the country’s current challenges. \nGuanchi Zhang is an Assistant Professor of Law at Vermont Law and Graduate School. His research interests lie at the intersection of law\, urban studies\, and political economy. His current research projects focus on two primary areas of inquiry: the rise and fall of efforts to rightscale cities in China and the United States\, and the role of housing and zoning laws in the context of growing geographic disparities. \nEvent details and Zoom registration link on Fairbank Center website (will open in a new tab). \nSponsored by the Fairbank Center for Chinese Studies.
URL:https://eals.law.harvard.edu/event/guanchi-zhang-2024/
LOCATION:Online (Zoom)
CATEGORIES:Event of Interest,Talk/Panel
ATTACH;FMTTYPE=image/jpeg:https://eals.law.harvard.edu/wp-content/uploads/2024/04/guanchi-zhang_466_467_70.jpg
END:VEVENT
BEGIN:VEVENT
DTSTART;TZID=America/New_York:20211025T120000
DTEND;TZID=America/New_York:20211025T130000
DTSTAMP:20260424T153757
CREATED:20240423T001840Z
LAST-MODIFIED:20250125T153212Z
UID:10000027-1635163200-1635166800@eals.law.harvard.edu
SUMMARY:From Manners to Rules: The Legalistic Turn in Governance and Secondhand Smoke Prevention in Japan and South Korea
DESCRIPTION:Program on U.S.-Japan Relations Seminar \nCeleste Arrington\nKorea Foundation Associate Professor of Political Science and International Affairs\, George Washington University \nModerator: Christina L. Davis\nDirector\, Program on U.S.-Japan Relations; Professor of Government; Susan S. and Kenneth L. Wallach Professor\, Radcliffe Institute for Advanced Study\, Harvard University \nThis seminar is part of the Special Series on Policy Innovations in Crises\, supported by a grant from the Japan Foundation Center for Global Partnership (CGP). \nAdditional Resources\n1. Celeste Arrington\, “Insider Activists and Secondhand Smoke Countermeasures in Japan.” Asian Survey 61 (4)\, 2021. \n2. Holly Jarman\, “Legalism and Tobacco Control in the EU.” European Journal of Public Health 28 (3)\, 2018. \n3. Celeste Arrington\, Accidental Activists: Victim Movements and Government Accountability in Japan and South Korea. Cornell University Press\, 2016. \n4. Thomas Burke and Jeff Barnes\, Varieties of Legal Order: The Politics of Adversarial and Bureaucratic Legalism. Routledge Press\, 2017. \nEvent details and Zoom registration link on the Program on U.S.-Japan Relations website \nSponsored by the Program on U.S.-Japan Relations\, Weatherhead Center for International Affairs. Co-sponsored by the Korea Institute\, Harvard University\, and East Asian Legal Studies\, Harvard Law School.
URL:https://eals.law.harvard.edu/event/celeste-arrington-2021/
LOCATION:Online (Zoom)
CATEGORIES:Co-Sponsored Event,Talk/Panel
ATTACH;FMTTYPE=image/jpeg:https://eals.law.harvard.edu/wp-content/uploads/2024/04/Celeste_Arrington_450_503_s-e1720552088945.jpg
END:VEVENT
BEGIN:VEVENT
DTSTART;TZID=America/New_York:20211007T203000
DTEND;TZID=America/New_York:20211007T213000
DTSTAMP:20260424T153757
CREATED:20240423T002021Z
LAST-MODIFIED:20250128T070548Z
UID:10000028-1633638600-1633642200@eals.law.harvard.edu
SUMMARY:Dispute Resolution in China: Litigation\, Arbitration\, Mediation and their Interactions
DESCRIPTION:East Asian Legal Studies Book Talk \nDr. Weixia Gu is an Associate Professor at the University of Hong Kong\, Faculty of Law. Dr. Gu’s research focuses on arbitration\, dispute resolution\, private international law and cross-border legal issues. \nDr. Gu will speak about her new book\, Dispute Resolution in China: Litigation\, Arbitration\, Mediation and their Interactions (Routledge 2021). \nSponsored by East Asian Legal Studies.
URL:https://eals.law.harvard.edu/event/weixia-gu-2021/
LOCATION:Online (Zoom)
CATEGORIES:Book Talk,EALS Event,Talk/Panel
ATTACH;FMTTYPE=image/png:https://eals.law.harvard.edu/wp-content/uploads/2024/04/Visix-EALS-10-7-rev.png
END:VEVENT
BEGIN:VEVENT
DTSTART;TZID=America/New_York:20210423T120000
DTEND;TZID=America/New_York:20210423T130000
DTSTAMP:20260424T153757
CREATED:20240423T002340Z
LAST-MODIFIED:20250125T153754Z
UID:10000029-1619179200-1619182800@eals.law.harvard.edu
SUMMARY:Breaking the Glass Ceiling: International Legal Careers and AAPI Representation in the Legal Profession
DESCRIPTION:Harvard Asia Law Society\, Harvard International Arbitration Law Students Association\, and HLS China Law Association (student organizations) present: \nFireside Chat with Ko-Yung Tung \n\nHALS\, HIALSA\, and CLA jointly invite Prof. Ko-Yung Tung to a fireside chat scheduled on April 23 (Friday)\, 12 p.m. to 1 p.m. EST. On Friday\, Prof. Tung will discuss the following topics: AAPI representation in the legal profession\, the opportunities and realities of pursuing international legal careers\, and breaking the glass ceiling for AAPI minorities. \nProf. Ko-Yung Tung is the former Secretary General of the Centre for the Settlement of Investment Disputes (ICSID) and the former Senior Vice President and General Counsel of the World Bank. He is currently a lecturer at HLS\, teaching a course entitled “International Investment Arbitration: Policies\, Issues\, and Challenges.” Previously\, Prof. Tung taught as an adjunct professor at Yale Law School and New York University School of Law. He also taught as a visiting professor at Tsinghua University and University of Arizona School of Law. \nIn the public sector\, Prof. Tung advises sovereign governments and agencies in the areas of foreign investment and international economic relations. In private practice\, as Senior Partner of O’Melveny & Myers and Senior Counsellor at Morrison & Foerster\, he counseled multinational corporations with respect to their internationalbusiness strategies\, cross-border transactions\, dealings with governmental authorities and international investment disputes. \nProf. Tung was born in Beijing\, China\, and raised in Tokyo\, Japan. He received his education from Harvard College (A.B. physics\, 1970)\, Harvard Law School (J.D.\, 1973)\, and University of Tokyo\, Faculty of Law (Research Fellow\, 1971-72). Keenly aware of his Asian heritage and his life experiences\, Prof. Tung is active in many NGOs focusing on AAPI and trans-Pacific issues\, including the Asian American Legal Education and Defense Fund (AALDEF)\, National Asian Pacific Bar Association\, U.S.-China Education Fund\, and the Mansfield Foundation. He served as the Chairman of the Board of Governors of the East West Center and as a member of the Presidential Commission on U.S.-Asia Trade and Investment.
URL:https://eals.law.harvard.edu/event/ko-yung-tung-2021/
LOCATION:Online (Zoom)
CATEGORIES:Conversation/Fireside Chat,Event of Interest
ATTACH;FMTTYPE=image/jpeg:https://eals.law.harvard.edu/wp-content/uploads/2024/04/ko-yung-tung_600_600_70.jpg
END:VEVENT
BEGIN:VEVENT
DTSTART;TZID=America/New_York:20210416T120000
DTEND;TZID=America/New_York:20210416T130000
DTSTAMP:20260424T153757
CREATED:20240423T002620Z
LAST-MODIFIED:20250125T153915Z
UID:10000030-1618574400-1618578000@eals.law.harvard.edu
SUMMARY:International Law of the Sea\, the South China Sea\, and US-China Relations
DESCRIPTION:The Harvard Asia Law Society (student organization) presents: \n\nHarvard Asia Law Society (HALS) is hosting an event with HLS Visiting Professor James Kraska. Professor Kraska will discuss focal points in the South China Sea\, the shifting role of the international law of the sea in the Indo-Pacific region\, and implications for the future of international law and U.S.-China relations. After his talk\, Professor Kraska will have a Q&A session with students. \nProfessor James Kraska is a tenured professor and chair of the Stockton Center for International Law at the U.S. Naval War College and teaches International Law of the Sea at Harvard Law School. Professor Kraska has written numerous books\, including Maritime Power and Law of the Sea\, which won the Alfred Thayer Mahan Award for Literary Achievement\, and co-authored The Free Sea: The American Fight for Freedom of Navigation (USNI). He is a permanent member of the Council on Foreign Relations and served as a U.S. Navy officer and lawyer\, including service with operational forces in the Indo-Pacific region. \nSponsored by the Harvard Asia Law Society.
URL:https://eals.law.harvard.edu/event/james-kraska-2021/
LOCATION:Online (Zoom)
CATEGORIES:Event of Interest,Talk/Panel
ATTACH;FMTTYPE=image/jpeg:https://eals.law.harvard.edu/wp-content/uploads/2024/04/james-kraska_580_585_70.jpg
END:VEVENT
BEGIN:VEVENT
DTSTART;TZID=America/New_York:20201015T170000
DTEND;TZID=America/New_York:20201015T193500
DTSTAMP:20260424T153757
CREATED:20240423T002914Z
LAST-MODIFIED:20250120T063511Z
UID:10000031-1602781200-1602790500@eals.law.harvard.edu
SUMMARY:HILJ-YJIL-Oxford Symposium: China and the International Legal Order
DESCRIPTION:Virtual Symposium \nHILJ-YJIL-Oxford \nOctober 15\, 2020  \nAs deglobalization deepens in centers of capitalism in the North and the COVID-19 pandemic exacerbates tensions between the U.S. and China\, China continues to promote its version of economic globalization\, particularly through emergent markets in much of the South. Chinese globalization consists of trade and global value chains\, investment and development finance\, and hard and soft infrastructure—including digital infrastructures—promoted by Chinese and multilateral development banks\, SOEs and privately-owned companies\, and internationalizing professional services like law firms. China is providing much-needed capital\, health aid\, and expertise to many regions of the world. At the same time\, scholars suggest that “state capital\,” which differs from private capital\, catalyzes this form of globalization\, meaning that outbound capital flows are aligned with the interests of the party-state. Along these lines\, China is increasing active not only in existing multilateral legal organizations and financial institutions\, such as the WTO\, WHO\, UN\, ISO\, but is also establishing its own parallel platforms including the Shanghai Cooperation Organization\, Asian Infrastructure Investment Bank\, eWTP\, World Internet Conference\, and the Belt and Road Initiative. Chinese development banks have\, in recent years\, provided more overseas lending than the World Bank and the IMF combined. China’s technology companies are the largest in the world and providing e-commerce and telecommunications facilities\, including 5G\, through the “Digital Silk Road.” These developments have significant consequences for global health governance\, supply chains\, labor and environmental rights\, privacy\, security\, and freedom of speech. State response to the coronavirus pandemic has done little to create consensus around these issues and the interstate system appears to be shifting around two emergent spheres of influence—that of China and the U.S. It is at this current turning point that we convene this symposium to examine how a globalizing China is shaping or otherwise influencing the international legal order\, one that has been allegedly designed by and for private capital from the global North\, and conversely\, how existing international legal institutions\, Western states\, and “Belt and Road” partner states are responding to an ascendant China. \nThis symposium\, a unique collaboration between ​Harvard International Law Journal​\, Yale Journal of International Law\,​ and the “China\, Law and Development” project and the Commercial Law Centre\, both at the University of Oxford\, features scholars from not only the U.S. and China but also Hong Kong\, Singapore\, the U.K.\, and Brazil. The symposium highlights the scholarship of not just established scholars\, but also junior scholars\, and law students\, as well\, including one panel devoted to law students. The symposium is aimed at opening up intellectual exchange about China’s relationship to the changing international legal order\, including\, centrally\, the U.S.-China relationship\, and also additional states that have strong economic\, legal\, and security ties with China. \n5:00 PM – 5:30 PM\nOpening Remarks\nMatthew S. Erie\, Associate Professor of Modern Chinese Studies and Principal Investigator of the CLD Initiative\, Oxford University \nWilliam P. Alford\, Jerome A. and Joan L. Cohen Professor of Law\, Director of East Asian Legal Studies Program\, Harvard Law School \nWang Chenguang\, Professor of Law and Former Dean\, Tsinghua University Law School \nWelcome from the Hosts\nRoberta T. Mayerle and Steven Wang\, Editors-in-Chief of the Harvard International Law Journal \nAnn Manov and Omar Shehabi\, Co-Editor-in-Chief and Executive Editor for Features of the Yale Journal of International Law \n5:30 PM – 6:50 PM\nPanel 1: China and the World\nPRESENTERS \nTom Ginsburg\, Leo Spitz Professor of International Law and Professor of Political Science\, University of Chicago Law School\n“The BRI\, Non-interference\, and Democracy” \nWang Guiguo\, President of Zhejiang University Academy of International Strategy and Law\, Zhejiang University Guanghua Law School\n“The Belt and Road in the Changing International Legal Order” \nSteven Wang\, J.D. Candidate and Co-Editor-in-Chief of the Harvard International Law Journal\, Harvard Law School\n“Indigenous Constitutionalism and Global Legitimacy: Uncovering Roots of Constitutionalism in the Chinese Past” \nDISCUSSANTS \nTaisu Zhang\, Professor of Law\, Yale Law School \nKristin van Zwieten\, Clifford Chance Associate Professor of Law and Finance\, and Director of the Commercial Law Centre of Harris Manchester College\, Oxford University \nMODERATOR \nLara Markey\, Features Editor\, Yale Journal of International Law \nPanel 2: Facilitators of China Law\nPRESENTERS \nMatthew S. Erie and Sida Liu\, Associate Professor of Sociology and Law\, University of Toronto\n“The Architects of China’s International Legal Order” \nWeixia Gu\, Associate Professor of Law\, University of Hong Kong\n“China’s Law And Development: A Case Study Of The China International Commercial Court” \nJi Li\, John & Marilyn Long Professor of US-China Business and Law\, University of California\, Irvine School of Law\n“Meeting Law’s Demand Chinese Multinationals as Consumers of US Legal Services” \nDISCUSSANTS \nWilliam P. Alford \nLinda Mulcahy\, Professor of Socio-Legal Studies and Director of the Centre for Socio-Legal Studies\, Oxford University \nMODERATOR \nEric Holmberg\, Line Editor\, Harvard International Law Journal \nPanel 3: Trade and Investment\nPRESENTERS \nHenry Gao\, Associate Professor of Law\, Singapore Management University\n“Across the Great Wall: E-Commerce Joint Statement Initiative Negotiation and China” \nFabio Costa Morosini\, Associate Professor\, Federal University of Rio Grande do Sul School of Law\, and Michelle Ratton Sanchez Badin\, Associate Professor\, Law School of Getulio Vargas Foundation\n“Constituting China’s International Legal Ordering: Ideas And Practices Around Chinese Investments In The Brazilian Energy Sector” \nGregory Shaffer\, Chancellor’s Professor of Law and Director of Center on Globalization\, Law\, and Society\, University of California\, Irvine School of Law\n“Governing the Interface of China-US Trade Relations” \nXia King\, Assistant Professor\, The University of Hong Kong\, Department of Law\n“Unpacking China\, Inc. In Africa: State-market Relations In China’s Outward Investment” \nDISCUSSANTS \nMark Wu\, Harvard Law School\, Henry L. Stimson Professor of Law\, Vice Dean for the Graduate Program and International Legal Studies\, Harvard Law School \nKathleen Clausen\, Associate Professor of Law\, University of Miami School of Law \nMODERATOR \nPrakhar Bhardwaj\, Article Editor\, Harvard Law School \n6:50 PM – 7:20 PM\nYoung Scholars Workshop\n7:20 PM – 7:35 PM\nClosing Remarks\nMark Wu \nRobert Williams\, Executive Director of Paul Tsai China Center\, Yale Law School \nMatthew S. Erie \nEvent details on the Harvard International Law Journal website \nSponsored by the Harvard International Law Journal\, Yale Journal of International Law\, and Oxford University’s China\, Law and Development project and Commercial Law Centre.
URL:https://eals.law.harvard.edu/event/china-and-the-international-legal-order-symposium-2020/
LOCATION:Online (Zoom)
CATEGORIES:Conference/Symposium,Event of Interest
ATTACH;FMTTYPE=image/jpeg:https://eals.law.harvard.edu/wp-content/uploads/2024/04/2020-10-15-china-and-intl-legal-order-poster_450_576_s.jpg
END:VEVENT
BEGIN:VEVENT
DTSTART;TZID=America/New_York:20200923T120000
DTEND;TZID=America/New_York:20200923T130000
DTSTAMP:20260424T153757
CREATED:20240423T003148Z
LAST-MODIFIED:20250125T154037Z
UID:10000032-1600862400-1600866000@eals.law.harvard.edu
SUMMARY:EALS 2020 Open House
DESCRIPTION:Please join us to meet EALS faculty\, staff\, and scholars.
URL:https://eals.law.harvard.edu/event/2020-open-house/
LOCATION:Online (Zoom)
CATEGORIES:EALS Event,Open House
ATTACH;FMTTYPE=image/png:https://eals.law.harvard.edu/wp-content/uploads/2024/04/eals-open-house-green.png
END:VEVENT
END:VCALENDAR